BEGIN:VCALENDAR
VERSION:2.0
PRODID:icalendar-ruby
CALSCALE:GREGORIAN
METHOD:PUBLISH
BEGIN:VTIMEZONE
TZID:America/New_York
BEGIN:DAYLIGHT
DTSTART:20260308T030000
TZOFFSETFROM:-0500
TZOFFSETTO:-0400
RRULE:FREQ=YEARLY;BYDAY=2SU;BYMONTH=3
TZNAME:EDT
END:DAYLIGHT
BEGIN:STANDARD
DTSTART:20261101T010000
TZOFFSETFROM:-0400
TZOFFSETTO:-0500
RRULE:FREQ=YEARLY;BYDAY=1SU;BYMONTH=11
TZNAME:EST
END:STANDARD
END:VTIMEZONE
BEGIN:VEVENT
DTSTAMP:20260421T093707Z
UID:6687c9ac-e4c7-4ff8-a88a-3d21567c6382
DTSTART;TZID=America/New_York:20260919T170000
CLASS:PUBLIC
DESCRIPTION:Lake Nona's signature race transforms into a family fun festiva
 l right in Lake Nona Town Center.  Once the sun goes down join us at the B
 eacon for a one-of-a-kind party like you’ve never seen before! Grab your
  family\, friends\, and neighbors and meet us at Lake Nona Town Center\, f
 or a fantastic evening of festivities!
SUMMARY:Run Nona 5K & Nemours Children's Run
END:VEVENT
END:VCALENDAR
